BEGIN:VCALENDAR
VERSION:2.0
PRODID:-//ChamberMaster//Event Calendar 2.0//EN
METHOD:PUBLISH
X-PUBLISHED-TTL:P3D
REFRESH-INTERVAL:P3D
CALSCALE:GREGORIAN
BEGIN:VEVENT
DTSTART:20250306T164500Z
DTEND:20250306T180000Z
X-MICROSOFT-CDO-ALLDAYEVENT:FALSE
SUMMARY:Government Affairs Committee Meeting
DESCRIPTION:The Governmental Affairs Oversight Committee focuses on issues impacting the homebuilding industry in Orange\, Osceola\, and Seminole Counties. Monthly meetings serve as a forum for policy discussion on current government issues and updates. The Committee provides strategic guidance and recommendations to the Executive Committee regarding state & local concerns. Lunch is provided.
X-ALT-DESC;FMTTYPE=text/html:<span style="font-size: 16px\; font-family: Calibri\, Verdana\, Geneva\, sans-serif\;">The Governmental Affairs Oversight Committee focuses on issues impacting the homebuilding industry in Orange\, Osceola\, and Seminole Counties. Monthly meetings serve as a forum for policy discussion on current government issues and updates. The Committee provides strategic guidance and recommendations to the Executive Committee regarding state &amp\; local concerns. Lunch is provided.</span>
LOCATION:GOBA Central Kitchen & Bath Boardroom 1953 Clayton Heritage Way Maitland\, FL 32751
UID:e.9318.4936
SEQUENCE:3
DTSTAMP:20260422T223258Z
URL:http://greaterorlandobafl.memberzone.com/events/details/government-affairs-committee-meeting-03-06-2025-4936
END:VEVENT

END:VCALENDAR
