BEGIN:VCALENDAR
VERSION:2.0
PRODID:-//ChamberMaster//Event Calendar 2.0//EN
METHOD:PUBLISH
X-PUBLISHED-TTL:P3D
REFRESH-INTERVAL:P3D
CALSCALE:GREGORIAN
BEGIN:VEVENT
DTSTART;VALUE=DATE:20270507
DTEND;VALUE=DATE:20270508
TRANSP:TRANSPARENT
X-MICROSOFT-CDO-ALLDAYEVENT:TRUE
SUMMARY:Parade of Homes Awards Celebration - 05/07/2015
DESCRIPTION:
X-ALT-DESC;FMTTYPE=text/html:
LOCATION:8815 International Drive Orlando\, FL 32819
UID:e.9318.1757
SEQUENCE:3
DTSTAMP:20260422T223206Z
URL:http://greaterorlandobafl.memberzone.com/events/details/parade-of-homes-awards-celebration-05-07-2015-05-07-2027-1757
END:VEVENT

END:VCALENDAR
