BEGIN:VCALENDAR
VERSION:2.0
PRODID:-//ChamberMaster//Event Calendar 2.0//EN
METHOD:PUBLISH
X-PUBLISHED-TTL:P3D
REFRESH-INTERVAL:P3D
CALSCALE:GREGORIAN
BEGIN:VEVENT
DTSTART:20260903T213000Z
DTEND:20260903T230000Z
X-MICROSOFT-CDO-ALLDAYEVENT:FALSE
SUMMARY:Young Professionals Social @ TBD
DESCRIPTION:MORE INFO COMING SOON... SAVE THE DATE!\n\n\n\nCome out and meet your fellow young professionals in the Orlando homebuilding industry. There is no cost and all are welcome to attend including those under-45 at heart. GOBA Young Professionals brings together the next generation of leadership in the homebuilding industry in a social atmosphere to engage with their peers and expand their network. Free drink ticket for the first 50 GOBA-Members!
X-ALT-DESC;FMTTYPE=text/html:<p><span style="color:#0000FF\;"><strong>MORE INFO COMING SOON... SAVE THE DATE!</strong></span><br />\n<br />\nCome out and meet your fellow young professionals in the Orlando homebuilding industry. There is no cost and all are welcome to attend including those under-45 at heart. GOBA Young Professionals brings together the next generation of leadership in the homebuilding industry in a social atmosphere to engage with their peers and expand their network. Free drink ticket for the first 50 GOBA-Members!</p>\n
LOCATION:
UID:e.9318.7343
SEQUENCE:3
DTSTAMP:20260422T065750Z
URL:http://greaterorlandobafl.memberzone.com/events/details/young-professionals-social-tbd-7343
END:VEVENT

END:VCALENDAR
